BEGIN:VCALENDAR
VERSION:2.0
PRODID:-//Mirijam Stark MKA Horsemanship - ECPv6.11.0.1//NONSGML v1.0//EN
CALSCALE:GREGORIAN
METHOD:PUBLISH
X-ORIGINAL-URL:https://www.mirijam-stark-mka-horsemanship.de
X-WR-CALDESC:Veranstaltungen für Mirijam Stark MKA Horsemanship
REFRESH-INTERVAL;VALUE=DURATION:PT1H
X-Robots-Tag:noindex
X-PUBLISHED-TTL:PT1H
BEGIN:VTIMEZONE
TZID:Europe/Berlin
BEGIN:DAYLIGHT
TZOFFSETFROM:+0100
TZOFFSETTO:+0200
TZNAME:CEST
DTSTART:20250330T010000
END:DAYLIGHT
BEGIN:STANDARD
TZOFFSETFROM:+0200
TZOFFSETTO:+0100
TZNAME:CET
DTSTART:20251026T010000
END:STANDARD
BEGIN:DAYLIGHT
TZOFFSETFROM:+0100
TZOFFSETTO:+0200
TZNAME:CEST
DTSTART:20260329T010000
END:DAYLIGHT
BEGIN:STANDARD
TZOFFSETFROM:+0200
TZOFFSETTO:+0100
TZNAME:CET
DTSTART:20261025T010000
END:STANDARD
END:VTIMEZONE
BEGIN:VEVENT
DTSTART;VALUE=DATE:20260322
DTEND;VALUE=DATE:20260323
DTSTAMP:20260424T153733
CREATED:20250917T101737Z
LAST-MODIFIED:20250918T124228Z
UID:788-1774137600-1774223999@www.mirijam-stark-mka-horsemanship.de
SUMMARY:Gelassenheitstraining
DESCRIPTION:Im Gelassenheitstraining für Pferde üben wir\, wie dein Pferd ruhig und vertrauensvoll auf neue Situationen reagiert. Ob Plane\, Regenschirm oder ungewohnte Geräusche – dein Pferd lernt\, gelassen zu bleiben. So gewinnt ihr beide mehr Sicherheit\, sowohl im Alltag als auch beim Reiten oder Ausreiten. \nKurszeiten:\nSonntag\, 22.03.2025 von 10:00 bis ca. 17:00 \nOrt:\nKamerer-Schott-Straße 53\n89584 Ehingen – Frankenhofen \nKursgebühr: 145€ \nHinweise:\n• An diesem Kurs kann nur mit dem eigenen Pferd teilgenommen werden.\n• Solltest du eine weite Anfahrt haben\, gibt es die Möglichkeit eine Gastbox zu mieten. Bitte schreibe für weitere Informationen dazu und zur Reservierung einfach eine E-Mail an hallo@mirijam-stark-mka-horsemanship.de
URL:https://www.mirijam-stark-mka-horsemanship.de/kurs/gelassenheitstraining-2/
LOCATION:89584 Ehingen-Frankenhofen
END:VEVENT
BEGIN:VEVENT
DTSTART;VALUE=DATE:20260314
DTEND;VALUE=DATE:20260315
DTSTAMP:20260424T153733
CREATED:20250917T101708Z
LAST-MODIFIED:20250918T092133Z
UID:786-1773446400-1773532799@www.mirijam-stark-mka-horsemanship.de
SUMMARY:Workshop: Horsemanship Reiten
DESCRIPTION:Dieser Kurs verbindet die Prinzipien von Natural Horsemanship mit dem Reiten. Du lernst\, dein Pferd mit feinen Hilfen und klarer Kommunikation unter dem Sattel zu reiten. So entsteht Vertrauen\, Harmonie und Leichtigkeit – die Basis für pferdefreundliches Reittraining. \nKurszeiten:\nSamstag\, 14.03.2026 von 10:00 bis ca. 17:00 \nOrt:\nKamerer-Schott-Straße 53\n89584 Ehingen – Frankenhofen \nKursgebühr: 145€ \nHinweise:\n• An diesem Kurs kann nur mit dem eigenen Pferd teilgenommen werden.\n• Solltest du eine weite Anfahrt haben\, gibt es die Möglichkeit eine Gastbox zu mieten. Bitte schreibe für weitere Informationen dazu und zur Reservierung einfach eine E-Mail an hallo@mirijam-stark-mka-horsemanship.de
URL:https://www.mirijam-stark-mka-horsemanship.de/kurs/workshop-horsemanship-reiten-2/
LOCATION:89584 Ehingen-Frankenhofen
END:VEVENT
BEGIN:VEVENT
DTSTART;VALUE=DATE:20260307
DTEND;VALUE=DATE:20260308
DTSTAMP:20260424T153733
CREATED:20250917T101641Z
LAST-MODIFIED:20250918T092755Z
UID:784-1772841600-1772927999@www.mirijam-stark-mka-horsemanship.de
SUMMARY:Workshop: Horsemanship Doppellonge
DESCRIPTION:Die Arbeit an der Doppellonge bringt Abwechslung\, Balance und Leichtigkeit in dein Pferdetraining. Du lernst\, dein Pferd vom Boden aus gymnastizierend zu fördern\, seine Bewegungen besser zu verstehen und die Partnerschaft zu vertiefen. \nKurszeiten:\nSamstag\, 07.03.2026 von 10:00 bis ca. 17:00 \nOrt:\nKamerer-Schott-Straße 53\n89584 Ehingen – Frankenhofen \nKursgebühr: 145€ \nHinweise:\n• An diesem Kurs kann mit dem eigenen Pferd teilgenommen werden\, zudem stehen zwei Leihpferde zur Verfügung.\n• Solltest du eine weite Anfahrt haben\, gibt es die Möglichkeit eine Gastbox zu mieten. Bitte schreibe für weitere Informationen dazu und zur Reservierung einfach eine E-Mail an hallo@mirijam-stark-mka-horsemanship.de
URL:https://www.mirijam-stark-mka-horsemanship.de/kurs/workshop-horsemanship-doppellonge-2/
LOCATION:89584 Ehingen-Frankenhofen
END:VEVENT
BEGIN:VEVENT
DTSTART;VALUE=DATE:20260221
DTEND;VALUE=DATE:20260223
DTSTAMP:20260424T153733
CREATED:20250917T101612Z
LAST-MODIFIED:20250918T093450Z
UID:782-1771632000-1771804799@www.mirijam-stark-mka-horsemanship.de
SUMMARY:Bodenarbeitskurs 1.1
DESCRIPTION:Ein Einstiegskurs für alle\, die in die Bodenarbeit mit Pferden starten möchten. Wir erarbeiten gemeinsam die Grundlagen von Respekt\, Vertrauen und klarer Kommunikation. Perfekt für junge Pferde\, Wiedereinsteiger oder als Vertiefung für erfahrene Reiter\, die ihre Beziehung zum Pferd verbessern möchten. \nKurszeiten:\nSamstag\, 21.02.2026 von 10:00 bis ca. 17:00\nSonntag\, 22.02.2026 von 10:00 bis ca. 17:00 \nOrt:\nKamerer-Schott-Straße 53\n89584 Ehingen – Frankenhofen \nKursgebühr: 295€ \nHinweise:\n• An diesem Kurs kann mit dem eigenen Pferd teilgenommen werden\, zudem stehen zwei Leihpferde zur Verfügung.\n• Solltest du eine weite Anfahrt haben\, gibt es die Möglichkeit eine Gastbox zu mieten. Bitte schreibe für weitere Informationen dazu und zur Reservierung einfach eine E-Mail an hallo@mirijam-stark-mka-horsemanship.de
URL:https://www.mirijam-stark-mka-horsemanship.de/kurs/bodenarbeitskurs-1-1-2/
LOCATION:89584 Ehingen-Frankenhofen
END:VEVENT
BEGIN:VEVENT
DTSTART;VALUE=DATE:20260117
DTEND;VALUE=DATE:20260118
DTSTAMP:20260424T153733
CREATED:20250917T101501Z
LAST-MODIFIED:20250918T094152Z
UID:778-1768608000-1768694399@www.mirijam-stark-mka-horsemanship.de
SUMMARY:Workshop: Horsemanship Reiten
DESCRIPTION:Dieser Kurs verbindet die Prinzipien von Natural Horsemanship mit dem Reiten. Du lernst\, dein Pferd mit feinen Hilfen und klarer Kommunikation unter dem Sattel zu reiten. So entsteht Vertrauen\, Harmonie und Leichtigkeit – die Basis für pferdefreundliches Reittraining. \nKurszeiten:\nSamstag\, 17.01.2026 von 10:00 bis ca. 17:00 \nOrt:\nKamerer-Schott-Straße 53\n89584 Ehingen – Frankenhofen \nKursgebühr: 145€ \nHinweise:\n• An diesem Kurs kann nur mit dem eigenen Pferd teilgenommen werden.\n• Solltest du eine weite Anfahrt haben\, gibt es die Möglichkeit eine Gastbox zu mieten. Bitte schreibe für weitere Informationen dazu und zur Reservierung einfach eine E-Mail an hallo@mirijam-stark-mka-horsemanship.de
URL:https://www.mirijam-stark-mka-horsemanship.de/kurs/horsemanship-reiten/
LOCATION:89584 Ehingen-Frankenhofen
END:VEVENT
BEGIN:VEVENT
DTSTART;VALUE=DATE:20260110
DTEND;VALUE=DATE:20260112
DTSTAMP:20260424T153733
CREATED:20250917T101426Z
LAST-MODIFIED:20250918T124302Z
UID:776-1768003200-1768175999@www.mirijam-stark-mka-horsemanship.de
SUMMARY:Pferdepsychologie 2 (Theorie & Praxis)
DESCRIPTION:In diesem Aufbaukurs vertiefen wir die Themen der Pferdepsychologie und schauen uns die verschiedenen Persönlichkeiten von Pferden genauer an. Du lernst\, wie unterschiedlich Pferde denken\, fühlen und reagieren – und wie du dein Training individuell darauf abstimmen kannst. Neben den theoretischen Grundlagen fließen auch praktische Elemente ein\, sodass du das Gelernte direkt in der Arbeit mit deinem Pferd anwenden kannst. \nKurszeiten:\nSamstag\, 10.01.2026 von 10:00 bis ca. 17:00\nSonntag\, 11.01.2026 von 10:00 bis ca. 17:00 \nOrt:\nKamerer-Schott-Straße 53\n89584 Ehingen – Frankenhofen \nKursgebühr: 295€
URL:https://www.mirijam-stark-mka-horsemanship.de/kurs/pferdepsychologie-2-theorie-praxis/
LOCATION:89584 Ehingen-Frankenhofen
END:VEVENT
BEGIN:VEVENT
DTSTART;VALUE=DATE:20251213
DTEND;VALUE=DATE:20251214
DTSTAMP:20260424T153733
CREATED:20250917T101307Z
LAST-MODIFIED:20250918T094917Z
UID:774-1765584000-1765670399@www.mirijam-stark-mka-horsemanship.de
SUMMARY:Workshop: Horsemanship Bodenarbeit
DESCRIPTION:Die Horsemanship Bodenarbeit ist die Basis für eine vertrauensvolle Partnerschaft zwischen Mensch und Pferd. In diesem Kurs lernst du\, dein Pferd vom Boden aus klar und feinfühlig zu führen. Gemeinsam üben wir Übungen\, die Respekt\, Vertrauen und Gelassenheit fördern – eine wertvolle Grundlage für jede Pferdeausbildung und für mehr Freude im täglichen Umgang. \nKurszeiten:\nSamstag\, 13.12.2025 von 10:00 bis ca. 17:00 \nOrt:\nKamerer-Schott-Straße 53\n89584 Ehingen – Frankenhofen \nKursgebühr: 145€ \nHinweise:\n• An diesem Kurs kann mit dem eigenen Pferd teilgenommen werden\, zudem stehen zwei Leihpferde zur Verfügung.\n• Solltest du eine weite Anfahrt haben\, gibt es die Möglichkeit eine Gastbox zu mieten. Bitte schreibe für weitere Informationen dazu und zur Reservierung einfach eine E-Mail an hallo@mirijam-stark-mka-horsemanship.de
URL:https://www.mirijam-stark-mka-horsemanship.de/kurs/workshop-horsemanship-bodenarbeit-2/
LOCATION:89584 Ehingen-Frankenhofen
END:VEVENT
BEGIN:VEVENT
DTSTART;VALUE=DATE:20251122
DTEND;VALUE=DATE:20251123
DTSTAMP:20260424T153733
CREATED:20250917T101220Z
LAST-MODIFIED:20250918T124317Z
UID:772-1763769600-1763855999@www.mirijam-stark-mka-horsemanship.de
SUMMARY:Gelassenheitstraining
DESCRIPTION:Im Gelassenheitstraining für Pferde üben wir\, wie dein Pferd ruhig und vertrauensvoll auf\nneue Situationen reagiert. Ob Plane\, Regenschirm oder ungewohnte Geräusche – dein Pferd lernt\, gelassen zu bleiben. So gewinnt ihr beide mehr Sicherheit\, sowohl im Alltag als auch beim Reiten oder Ausreiten. \nKurszeiten:\nSamstag\, 22.11.2025 von 10:00 bis ca. 17:00 \nOrt:\nKamerer-Schott-Straße 53\n89584 Ehingen – Frankenhofen \nKursgebühr: 145€ \nHinweise:\n• An diesem Kurs kann nur mit dem eigenen Pferd teilgenommen werden.\n• Solltest du eine weite Anfahrt haben\, gibt es die Möglichkeit eine Gastbox zu mieten. Bitte schreibe für weitere Informationen dazu und zur Reservierung einfach eine E-Mail an hallo@mirijam-stark-mka-horsemanship.de
URL:https://www.mirijam-stark-mka-horsemanship.de/kurs/gelassenheitstraining/
LOCATION:89584 Ehingen-Frankenhofen
END:VEVENT
BEGIN:VEVENT
DTSTART;VALUE=DATE:20251116
DTEND;VALUE=DATE:20251117
DTSTAMP:20260424T153733
CREATED:20250917T101154Z
LAST-MODIFIED:20250918T105717Z
UID:770-1763251200-1763337599@www.mirijam-stark-mka-horsemanship.de
SUMMARY:Workshop: Horsemanship Doppellonge
DESCRIPTION:Die Arbeit an der Doppellonge bringt Abwechslung\, Balance und Leichtigkeit in dein Pferdetraining. Du lernst\, dein Pferd vom Boden aus gymnastizierend zu fördern\, seine Bewegungen besser zu verstehen und die Partnerschaft zu vertiefen. \nKurszeiten:\nSonntag\, 16.11.2025 von 10:00 bis ca. 17:00 \nOrt:\nKamerer-Schott-Straße 53\n89584 Ehingen – Frankenhofen \nKursgebühr: 145€ \nHinweise:\n• An diesem Kurs kann mit dem eigenen Pferd teilgenommen werden\, zudem stehen zwei Leihpferde zur Verfügung.\n• Solltest du eine weite Anfahrt haben\, gibt es die Möglichkeit eine Gastbox zu mieten. Bitte schreibe für weitere Informationen dazu und zur Reservierung einfach eine E-Mail an hallo@mirijam-stark-mka-horsemanship.de
URL:https://www.mirijam-stark-mka-horsemanship.de/kurs/workshop-horsemanship-doppellonge/
LOCATION:89584 Ehingen-Frankenhofen
END:VEVENT
BEGIN:VEVENT
DTSTART;VALUE=DATE:20251108
DTEND;VALUE=DATE:20251110
DTSTAMP:20260424T153733
CREATED:20250917T101104Z
LAST-MODIFIED:20250918T124327Z
UID:768-1762560000-1762732799@www.mirijam-stark-mka-horsemanship.de
SUMMARY:Pferdepsychologie 1 (Theorie)
DESCRIPTION:In diesem Theoriekurs bekommst du spannende Einblicke in die Pferdepsychologie. Wir beschäftigen uns mit dem Verhalten\, der Lernweise und den Gefühlen des Pferdes. Du lernst\, dein Pferd besser zu verstehen – und legst damit den Grundstein für ein respektvolles\, pferdegerechtes Training. \nKurszeiten:\nSamstag\, 08.11.2025 von 10:00 bis ca. 17:00\nSonntag\, 09.11.2025 von 10:00 bis ca. 17:00 \nOrt:\nKamerer-Schott-Straße 53\n89584 Ehingen – Frankenhofen \nKursgebühr: 295€
URL:https://www.mirijam-stark-mka-horsemanship.de/kurs/pferdepsychologie-1-theorie/
LOCATION:89584 Ehingen-Frankenhofen
END:VEVENT
BEGIN:VEVENT
DTSTART;VALUE=DATE:20251026
DTEND;VALUE=DATE:20251027
DTSTAMP:20260424T153733
CREATED:20250917T101015Z
LAST-MODIFIED:20250918T110203Z
UID:766-1761436800-1761523199@www.mirijam-stark-mka-horsemanship.de
SUMMARY:Workshop: Horsemanship Reiten
DESCRIPTION:Dieser Kurs verbindet die Prinzipien von Natural Horsemanship mit dem Reiten. Du lernst\, dein Pferd mit feinen Hilfen und klarer Kommunikation unter dem Sattel zu reiten. So entsteht Vertrauen\, Harmonie und Leichtigkeit – die Basis für pferdefreundliches Reittraining. \nKurszeiten:\nSonntag\, 26.10.2025 von 10:00 bis ca. 17:00 \nOrt:\nKamerer-Schott-Straße 53\n89584 Ehingen – Frankenhofen \nKursgebühr: 145€ \nHinweise:\n• An diesem Kurs kann nur mit dem eigenen Pferd teilgenommen werden.\n• Solltest du eine weite Anfahrt haben\, gibt es die Möglichkeit eine Gastbox zu mieten. Bitte schreibe für weitere Informationen dazu und zur Reservierung einfach eine E-Mail an hallo@mirijam-stark-mka-horsemanship.de
URL:https://www.mirijam-stark-mka-horsemanship.de/kurs/workshop-horsemanship-reiten/
LOCATION:89584 Ehingen-Frankenhofen
END:VEVENT
BEGIN:VEVENT
DTSTART;VALUE=DATE:20251018
DTEND;VALUE=DATE:20251020
DTSTAMP:20260424T153733
CREATED:20250917T100931Z
LAST-MODIFIED:20250918T110411Z
UID:764-1760745600-1760918399@www.mirijam-stark-mka-horsemanship.de
SUMMARY:Bodenarbeitskurs 1.1
DESCRIPTION:Ein Einstiegskurs für alle\, die in die Bodenarbeit mit Pferden starten möchten. Wir erarbeiten gemeinsam die Grundlagen von Respekt\, Vertrauen und klarer Kommunikation. Perfekt für junge Pferde\, Wiedereinsteiger oder als Vertiefung für erfahrene Reiter\, die ihre Beziehung zum Pferd verbessern möchten. \nKurszeiten:\nSamstag\, 18.10.2025 von 10:00 bis ca. 17:00\nSonntag\, 19.10.2025 von 10:00 bis ca. 17:00 \nOrt:\nKamerer-Schott-Straße 53\n89584 Ehingen – Frankenhofen \nKursgebühr: 295€ \nHinweise:\n• An diesem Kurs kann mit dem eigenen Pferd teilgenommen werden\, zudem stehen zwei Leihpferde zur Verfügung.\n• Solltest du eine weite Anfahrt haben\, gibt es die Möglichkeit eine Gastbox zu mieten. Bitte schreibe für weitere Informationen dazu und zur Reservierung einfach eine E-Mail an hallo@mirijam-stark-mka-horsemanship.de
URL:https://www.mirijam-stark-mka-horsemanship.de/kurs/bodenarbeitskurs-1-1/
LOCATION:89584 Ehingen-Frankenhofen
END:VEVENT
BEGIN:VEVENT
DTSTART;VALUE=DATE:20251005
DTEND;VALUE=DATE:20251006
DTSTAMP:20260424T153733
CREATED:20250917T100543Z
LAST-MODIFIED:20250918T110725Z
UID:762-1759622400-1759708799@www.mirijam-stark-mka-horsemanship.de
SUMMARY:Workshop: Horsemanship Bodenarbeit
DESCRIPTION:Die Horsemanship Bodenarbeit ist die Basis für eine vertrauensvolle Partnerschaft zwischen Mensch und Pferd. In diesem Kurs lernst du\, dein Pferd vom Boden aus klar und feinfühlig zu führen. Gemeinsam üben wir Übungen\, die Respekt\, Vertrauen und Gelassenheit fördern – eine wertvolle Grundlage für jede Pferdeausbildung und für mehr Freude im täglichen Umgang. \nKurszeiten:\nSonntag\, 05.10.2025 von 10:00 bis ca. 17:00 \nOrt:\nKamerer-Schott-Straße 53\n89584 Ehingen – Frankenhofen \nKursgebühr: 145€ \nHinweise:\n• An diesem Kurs kann mit dem eigenen Pferd teilgenommen werden\, zudem stehen zwei Leihpferde zur Verfügung.\n• Solltest du eine weite Anfahrt haben\, gibt es die Möglichkeit eine Gastbox zu mieten. Bitte schreibe für weitere Informationen dazu und zur Reservierung einfach eine E-Mail an hallo@mirijam-stark-mka-horsemanship.de
URL:https://www.mirijam-stark-mka-horsemanship.de/kurs/workshop-horsemanship-bodenarbeit/
LOCATION:89584 Ehingen-Frankenhofen
END:VEVENT
BEGIN:VEVENT
DTSTART;VALUE=DATE:20250927
DTEND;VALUE=DATE:20250928
DTSTAMP:20260424T153733
CREATED:20250917T100326Z
LAST-MODIFIED:20250918T110753Z
UID:759-1758931200-1759017599@www.mirijam-stark-mka-horsemanship.de
SUMMARY:Horsefriendship Day – Infonachmittag ab 14:00 Uhr
DESCRIPTION:Am 27. September öffnen wir die Tore für einen ganz besonderen Nachmittag:\nZwei Pferdemenschen kommen mit ihren Pferden und erzählen ihre persönliche Geschichte. Sie berichten von Herausforderungen\, ihrem Weg mit MKA Horsemanship und davon\, wie weit sie gemeinsam mit ihren Pferden schon gekommen sind. \nErlebt ihre Entwicklung hautnah\, gewinnt Einblicke in die Jungpferdeausbildung und schaut beim offenen Training zu. \nWo: 89584 Ehingen-Frankenhofen\, Kammerer – Schrott Str.\nWann: Samstag\, 27. September\, ab 14:00 Uhr \nKommt vorbei und lasst euch inspirieren – wir freuen uns auf euch!
URL:https://www.mirijam-stark-mka-horsemanship.de/kurs/horsefriendship-day-infonachmittag-ab-1400-uhr/
LOCATION:89584 Ehingen-Frankenhofen
END:VEVENT
BEGIN:VEVENT
DTSTART;TZID=Europe/Berlin:20250726T100000
DTEND;TZID=Europe/Berlin:20250727T160000
DTSTAMP:20260424T153733
CREATED:20250407T102909Z
LAST-MODIFIED:20250424T135726Z
UID:597-1753524000-1753632000@www.mirijam-stark-mka-horsemanship.de
SUMMARY:26./27. Juli 2025: Aufbaukurs Doppellonge 2
DESCRIPTION:Die Arbeit an der Doppellonge stellt eine ideale Ergänzung in der Ausbildung des Pferdes dar. Das Pferd in der Ausbildung\, sowie das bereits ausgebildete Reitpferd wird an der Doppellonge am effektivsten gestellt und gebogen. Die Doppellonge erleichtert zudem korrekt ausgeführte\, häufige Richtungswechsel. Vor allem unterstützt es Pferde die noch keine Autoequillibration gefunden haben oder solche Pferde die sich schwer tun ins Gleichgewicht zu kommen. An der Doppellonge kann das Pferd sich schnell und leichter ausbalancieren und sich selber in eine Biegung bringen und halten. Dies unterstützt vor allem den Beckengürtel und stabilisiert Hals\, Rücken und Hinterhand. \nZudem stellt die Arbeit mit der Doppellonge eine andere Form der Kommunikation dar und dies wiederrum fördert die mentale Einstellung des Pferdes. Diese Arbeit sollte jedoch nur durchgeführt werden\, wenn Respekt und die positive Kontrolle vorhanden sind. \nKurszeiten:\nSamstag von 10:00 bis ca. 17:00\nSonntag von 9:30 bis ca. 16:00 \nOrt:\nKamerer-Schott-Straße 53\n89584 Ehingen – Frankenhofen \nKursgebühr: 295€\nLeihpferd / Gastbox: je 30€
URL:https://www.mirijam-stark-mka-horsemanship.de/kurs/26-27-juli-aufbaukurs-doppellonge-2/
END:VEVENT
BEGIN:VEVENT
DTSTART;VALUE=DATE:20250719
DTEND;VALUE=DATE:20250721
DTSTAMP:20260424T153733
CREATED:20250516T105038Z
LAST-MODIFIED:20250624T174727Z
UID:658-1752883200-1753055999@www.mirijam-stark-mka-horsemanship.de
SUMMARY:19./20. Juli 2025: Cowgirl Camp - Deine achtsame Auszeit mit Pferden
DESCRIPTION:Stell dir ein Wochenende vor\, das ganz dir gehört – ein Ort\, an dem Achtsamkeit\, innere Ruhe und die tiefe Verbindung zu Pferden im Mittelpunkt stehen. Ganz gleich\, ob du zum ersten Mal mit Pferden in Berührung kommst\, als Wiedereinsteigerin zurückkehrst oder schon lange von ihnen fasziniert bist – du bist bei uns genau richtig. \nUnser Cowgirl Camp schenkt dir ein Gefühl von Ruhe – Geborgenheit – Erholung. \nPferde berühren unser Herz auf eine ganz besondere Weise. In ihrer Gegenwart entsteht eine stille Magie – du darfst einfach sein\, ohne etwas leisten zu müssen. Beim Striegeln\, Führen oder stillen Beobachten meiner Pferde spürst du Wärme und innere Klarheit. Du kommst ganz bei dir selbst an. Der Alltagsstress fällt ab – du atmest auf\, du findest zurück zu dir. \nDoch nicht nur mit den Pferden finden wir zu innerem Gleichgewicht:\nWir nehmen uns auch bewusst Zeit für Momente der Achtsamkeit ohne Pferd\, tauchen ein in stille Atemübungen und genießen eine sanfte Yogastunde\, die Körper und Geist nährt. \nAblauf & Highlights\nWir starten am Samstag\, den 19.07.25 und Sonntag\, den 20.07.25 jeweils um 9:00 Uhr mit einem gemeinsamen Frühstück.\nAm Samstagabend erwartet dich ein liebevoll geplanter Grillabend – eine herzliche Runde zum Austauschen\, Lachen und Genießen unter freiem Himmel. \nOrt: Kamerer-Schott-Straße 53\, 89584 Ehingen – Frankenhofen \nBegleitet wirst du von: \nMirijam Stark – Horsemanship-Trainerin\nEinfühlsam und erfahren begleitet sie dich in die stille\, kraftvolle Welt der Pferde. \nSonja Mohn – Resilienz-Coach & Yogalehrerin\nSie führt dich mit Achtsamkeit\, Atemübungen und Yoga zurück zu dir selbst – sanft\, stärkend\, nährend. \nKosten\nTeilnahmegebühr Wochenende: 260 € pro Person\nInklusive aller Programmpunkte\, Frühstück an beiden Tagen und Grillabend am Samstag.\n(Unterkunft und Anreise sind nicht im Preis enthalten.) \nTeilnahmegebühr für einen Tag: 130 € pro Person\n \nSei dabei. Wir freuen uns von Herzen auf dich!
URL:https://www.mirijam-stark-mka-horsemanship.de/kurs/cowgirl-camp-deine-achtsame-auszeit-mit-pferden/
ORGANIZER;CN="Mirijam Stark":MAILTO:hallo@mirijam-stark-mka-horsemanship.de
END:VEVENT
BEGIN:VEVENT
DTSTART;TZID=Europe/Berlin:20250712T100000
DTEND;TZID=Europe/Berlin:20250713T160000
DTSTAMP:20260424T153733
CREATED:20250407T141204Z
LAST-MODIFIED:20250424T135721Z
UID:595-1752314400-1752422400@www.mirijam-stark-mka-horsemanship.de
SUMMARY:12./13. Juli 2025: Aufbaukurs Bodenarbeit 1.2
DESCRIPTION:Aufbaukurs: In diesen zwei Tagen werden wir unsere Körpersprache weiter ausbauen und verinnerlichen. Du erfährst noch mehr über die Lernpsychologie Deines Pferdes und wirst im Umgang sicherer werden. Nicht die Pferde wollen was von uns\, sondern wir etwas von ihnen. Deshalb möchte ich Dich ermutigen\, durch die Philosophie des Horsemanship ein noch besserer Pferdemensch zu werden\, so dass es Dir möglich wird\, Dein Pferd richtig zu lesen und sein Verhalten zu verstehen. \nKursinhalte:\n• Weiterführende Übungen auf dem Zirkel\n• Wechsel der Augen – Schritt 2\n• Die Verantwortung\n• Übergänge\n• C- Pattern\n• Die Arbeit am Engpass\n• Weiterführende Schritte für Rückwärts\n• Seitwärts – Erste Schritte \nKurszeiten:\nSamstag\, 10:00 bis ca. 17:00 Praktische Arbeit am Pferd\nSonntag\, 09:30 bis ca. 15:00 Praktische Arbeit am Pferd \nOrt:\nKamerer-Schott-Straße 53\n89584 Ehingen – Frankenhofen \nKursgebühr: 295€\nLeihpferd / Gastbox: je 30€
URL:https://www.mirijam-stark-mka-horsemanship.de/kurs/12-13-juli-2025-aufbaukurs-bodenarbeit-1-2/
END:VEVENT
BEGIN:VEVENT
DTSTART;TZID=Europe/Berlin:20250621T100000
DTEND;TZID=Europe/Berlin:20250622T160000
DTSTAMP:20260424T153733
CREATED:20250407T141300Z
LAST-MODIFIED:20250424T135716Z
UID:593-1750500000-1750608000@www.mirijam-stark-mka-horsemanship.de
SUMMARY:21./22. Juni 2025: Grundlagen Bodenarbeit 1.1
DESCRIPTION:In unserem ersten Bodenarbeitskurs lernst Du die ersten Basis Lektionen\, um eine starke Beziehung aufzubauen. Du lernst Dein Pferd genau zu beobachten und erarbeitest Dir die so wichtigen Führungsqualitäten ganz im Sinne der Natur des Pferdes. Sicherheit\, Vertrauen\, Respekt\, Dein Pferd lernt Dich als qualitativen Anführer anzunehmen und zu respektieren. In diesen zwei Tagen legen wir gemeinsam die Basis für Motivation\, Kommunikation und Sicherheit. \nKursinhalte:\n• Theoretische Einführung\, Hintergründe und Philosophie\n• Das Equipment\n• Körpersprache – Führung\n• Persönlichen Freiraum und Sicherheit\n• Respekt und Kontrolle\n• Die natürliche Kraft des Fokus\n• Richtung und Geschwindigkeit\n• Vertrauen durch Verstehen\n• Eine gemeinsame Sprache für eine gelungene Kommunikation \nKurszeiten:\nSamstag von 10:00 bis ca. 17:00\nSonntag von 9:30 bis ca. 16:00 \nOrt:\nKamerer-Schott-Straße 53\n89584 Ehingen – Frankenhofen \nKursgebühr: 295€\nLeihpferd / Gastbox: je 30€
URL:https://www.mirijam-stark-mka-horsemanship.de/kurs/21-22-juni-2025-grundlagen-bodenarbeit-1-1/
END:VEVENT
BEGIN:VEVENT
DTSTART;TZID=Europe/Berlin:20250607T100000
DTEND;TZID=Europe/Berlin:20250608T160000
DTSTAMP:20260424T153733
CREATED:20250407T141456Z
LAST-MODIFIED:20250424T135703Z
UID:591-1749290400-1749398400@www.mirijam-stark-mka-horsemanship.de
SUMMARY:07./08. Juni 2025: Doppellonge
DESCRIPTION:Die Arbeit an der Doppellonge stellt eine ideale Ergänzung in der Ausbildung des Pferdes dar. Das Pferd in der Ausbildung\, sowie das bereits ausgebildete Reitpferd wird an der Doppellonge am effektivsten gestellt und gebogen. Die Doppellonge erleichtert zudem korrekt ausgeführte\, häufige Richtungswechsel. Vor allem unterstützt es Pferde die noch keine Autoequillibration gefunden haben oder solche Pferde die sich schwer tun ins Gleichgewicht zu kommen. An der Doppellonge kann das Pferd sich schnell und leichter ausbalancieren und sich selber in eine Biegung bringen und halten. Dies unterstützt vor allem den Beckengürtel und stabilisiert Hals\, Rücken und Hinterhand. \nZudem stellt die Arbeit mit der Doppellonge eine andere Form der Kommunikation dar und dies wiederrum fördert die mentale Einstellung des Pferdes. Diese Arbeit sollte jedoch nur durchgeführt werden\, wenn Respekt und die positive Kontrolle vorhanden sind. \nKurszeiten:\nSamstag von 10:00 bis ca. 17:00\nSonntag von 9:30 bis ca. 16:00 \nOrt:\nKamerer-Schott-Straße 53\n89584 Ehingen – Frankenhofen \nKursgebühr: 295€\nLeihpferd / Gastbox: je 30€
URL:https://www.mirijam-stark-mka-horsemanship.de/kurs/07-08-juni-2025-doppellonge/
END:VEVENT
BEGIN:VEVENT
DTSTART;TZID=Europe/Berlin:20250517T100000
DTEND;TZID=Europe/Berlin:20250518T160000
DTSTAMP:20260424T153733
CREATED:20250407T141618Z
LAST-MODIFIED:20250506T195134Z
UID:589-1747476000-1747584000@www.mirijam-stark-mka-horsemanship.de
SUMMARY:17./18. Mai 2025: Grundlagen der Bodenarbeit 1.1
DESCRIPTION:In unserem ersten Bodenarbeitskurs lernst Du die ersten Basis Lektionen\, um eine starke Beziehung aufzubauen. Du lernst Dein Pferd genau zu beobachten und erarbeitest Dir die so wichtigen Führungsqualitäten ganz im Sinne der Natur des Pferdes. Sicherheit\, Vertrauen\, Respekt\, Dein Pferd lernt Dich als qualitativen Anführer anzunehmen und zu respektieren. In diesen zwei Tagen legen wir gemeinsam die Basis für Motivation\, Kommunikation und Sicherheit. \nKursinhalte:\n• Theoretische Einführung\, Hintergründe und Philosophie\n• Das Equipment\n• Körpersprache – Führung\n• Persönlichen Freiraum und Sicherheit\n• Respekt und Kontrolle\n• Die natürliche Kraft des Fokus\n• Richtung und Geschwindigkeit\n• Vertrauen durch Verstehen\n• Eine gemeinsame Sprache für eine gelungene Kommunikation \nKurszeiten:\nSamstag von 10:00 bis ca. 17:00\nSonntag von 9:30 bis ca. 16:00 \nOrt:\nKamerer-Schott-Straße 53\n89584 Ehingen – Frankenhofen \nKursgebühr: 295€\nLeihpferd / Gastbox: je 30€
URL:https://www.mirijam-stark-mka-horsemanship.de/kurs/17-18-mai-2025-grundlagen-der-bodenarbeit-1-1/
END:VEVENT
END:VCALENDAR